BEGIN:VCALENDAR
VERSION:2.0
PRODID:-//Sovereign Lake Nordic Club - ECPv6.11.2//NONSGML v1.0//EN
CALSCALE:GREGORIAN
METHOD:PUBLISH
X-ORIGINAL-URL:https://sovereignlake.com
X-WR-CALDESC:Events for Sovereign Lake Nordic Club
REFRESH-INTERVAL;VALUE=DURATION:PT1H
X-Robots-Tag:noindex
X-PUBLISHED-TTL:PT1H
BEGIN:VTIMEZONE
TZID:America/Vancouver
BEGIN:DAYLIGHT
TZOFFSETFROM:-0800
TZOFFSETTO:-0700
TZNAME:PDT
DTSTART:20180311T100000
END:DAYLIGHT
BEGIN:STANDARD
TZOFFSETFROM:-0700
TZOFFSETTO:-0800
TZNAME:PST
DTSTART:20181104T090000
END:STANDARD
BEGIN:DAYLIGHT
TZOFFSETFROM:-0800
TZOFFSETTO:-0700
TZNAME:PDT
DTSTART:20190310T100000
END:DAYLIGHT
BEGIN:STANDARD
TZOFFSETFROM:-0700
TZOFFSETTO:-0800
TZNAME:PST
DTSTART:20191103T090000
END:STANDARD
BEGIN:DAYLIGHT
TZOFFSETFROM:-0800
TZOFFSETTO:-0700
TZNAME:PDT
DTSTART:20200308T100000
END:DAYLIGHT
BEGIN:STANDARD
TZOFFSETFROM:-0700
TZOFFSETTO:-0800
TZNAME:PST
DTSTART:20201101T090000
END:STANDARD
BEGIN:DAYLIGHT
TZOFFSETFROM:-0800
TZOFFSETTO:-0700
TZNAME:PDT
DTSTART:20210314T100000
END:DAYLIGHT
BEGIN:STANDARD
TZOFFSETFROM:-0700
TZOFFSETTO:-0800
TZNAME:PST
DTSTART:20211107T090000
END:STANDARD
BEGIN:DAYLIGHT
TZOFFSETFROM:-0800
TZOFFSETTO:-0700
TZNAME:PDT
DTSTART:20220313T100000
END:DAYLIGHT
BEGIN:STANDARD
TZOFFSETFROM:-0700
TZOFFSETTO:-0800
TZNAME:PST
DTSTART:20221106T090000
END:STANDARD
BEGIN:DAYLIGHT
TZOFFSETFROM:-0800
TZOFFSETTO:-0700
TZNAME:PDT
DTSTART:20230312T100000
END:DAYLIGHT
BEGIN:STANDARD
TZOFFSETFROM:-0700
TZOFFSETTO:-0800
TZNAME:PST
DTSTART:20231105T090000
END:STANDARD
END:VTIMEZONE
BEGIN:VEVENT
DTSTART;TZID=America/Vancouver:20231216T080000
DTEND;TZID=America/Vancouver:20231217T163000
DTSTAMP:20260421T033736
CREATED:20220908T182452Z
LAST-MODIFIED:20241106T192513Z
UID:9738-1702713600-1702830600@sovereignlake.com
SUMMARY:Community Coaching (CC) Course
DESCRIPTION:  \nNCCP COMMUNITY COACHING WORKSHOP \nThe “CC” Workshop is the third step in the NCCP coach education program. It provides essential training for coaches delivering an effective skill development program to children six to nine (the “FUNdamentals” stage of athlete development. This program is designed to train coaches to teach children technical skills\, select games that reinforce the technical skills\, design and lead on-snow sessions\, select and prepare equipment for young children\, and make learning FUN. Completing the ICC online module\, enthusiasm\, and a minimum age of 14 are the only prerequisites. There are 12 spaces available in this course. \nDate: November 30-December 1st 2024 \nTime:  \n\nSaturday: 8:30am-4:00pm (Classic)\n\nSunday: 9:00 am- 3:30pm (skate)\n\nLocation: SLNC Tech Building \n*Fee: The workshop fee for CCC/CCBC members is $105.00.  The workshop fee for non-CCC/CCBC members is $200.00 \nRegister: https://zone4.ca/register.asp?id=36768 \n*SLNC volunteer coaches will be reimbursed for this course fee if they commit to coaching with our SDP Programs in 2024-2025 \n  \n  \n  \n 
URL:https://sovereignlake.com/event/community-coaching-cc-course/
CATEGORIES:Courses,Programs
ATTACH;FMTTYPE=image/jpeg:https://sovereignlake.com/wp-content/uploads/2022/01/20210331_153931-1-scaled.jpg
END:VEVENT
BEGIN:VEVENT
DTSTART;VALUE=DATE:20230127
DTEND;VALUE=DATE:20230130
DTSTAMP:20260421T033736
CREATED:20221124T233555Z
LAST-MODIFIED:20230717T221937Z
UID:10028-1674777600-1675036799@sovereignlake.com
SUMMARY:Master’s Biathlon Camp
DESCRIPTION:  \nSovereign Lake Nordic Club is pleased to host a Master’s Biathlon Camp held on January 27-29th\, 2023. The camp will be hosted at the legendary world-class\nthe facility of Sovereign Lake Nordic Club. This 3-day camp is suited for Master’s biathletes who have access to their own equipment and have some skiing and shooting experience.\nThe purpose of the camp: an early season camp to fine-tune your skills for the competitive season. Meet and network with other awesome Masters’ biathletes and learn from world-class coaches. \nDate: Jan 27-29\, 2023 \nCamp Cost: $430 + taxes. \nThe camp cost includes: \n\n10 + sessions coached by certified and experienced coaches\nShooting analysis using SCATT Trainer\nSki technique session\nPosition/rifle fit analysis\nShooting theory and practical\nShooting combo session\nRifle maintenance and troubleshooting\nDistance ski – explore our beautiful trails!\nRange use pass/ paper/paint\nSilver Star Social on Saturday night (food and drinks provided)\n\nNot included: \n\nSovereign Lake Nordic Club Trail pass\nOptional ammo testing with a minimum 4 different types of ammo ($30)\n\n  \nNote: \n\nBring snacks\, drinks and lunch with you for the day. Microwave and snack concession is available inside the day lodge\nBring extra layers and a change of clothing\nBring your own ski equipment/rifles/ammo.\nSki equipment rentals are available\nAmmo available for purchase (SK and Lapua Polar)\nPAL required\nBiathlon Canada membership required\n\nIf you have any questions please contact Eric Schryer  biathloncoach@sovereignlake.com \n*6 participants minimum required for the camp to run* \n  \nREGISTER HERE – We look forward to seeing you soon!
URL:https://sovereignlake.com/event/masters-biathlon-camp/
CATEGORIES:Programs
ATTACH;FMTTYPE=image/jpeg:https://sovereignlake.com/wp-content/uploads/2022/10/20211120_125546-1-scaled.jpg
END:VEVENT
BEGIN:VEVENT
DTSTART;TZID=America/Vancouver:20221110T083000
DTEND;TZID=America/Vancouver:20221113T160000
DTSTAMP:20260421T033736
CREATED:20161025T211713Z
LAST-MODIFIED:20220908T183615Z
UID:1240-1668069000-1668355200@sovereignlake.com
SUMMARY:L2C On-Snow Coach Workshop
DESCRIPTION:Learn to Compete (L2C -OS) On-Snow Workshop\nThe Competition Coaching Development (CCD) context is for coaches working with athletes in the Learning to Compete (L2C) stage of development (about 16-20 years for males and 15-19 years for females). \nPRE-REQUISITES: Comp-Dev (L2C) Dryland Workshop completed. \nNote: Completion of multisport modules are required in order to obtain L2C “trained” status \n\nCoaching and Leading Effectively\nManaging Conflict\nLeading Drug-free Sport\nPsychology of Sport Performance\nPRE-WORKSHOP MATERIALS AND ASSIGNMENT: reading materials and pre-workshop assignments (if applicable) will be forwarded to participants with details and deadlines. Take note that you must forward your portfolio for “Monitoring\, testing and designing training plans for L2C athletes” at the time of registration if you want this evaluation to be completed during the workshop.\n\nFacilitator: Chris Manhard \nDate: Thursday\, November 10th (8:30am) to Sunday\, November 13th (4:00pm)\, 2022 \nLocation: Sovereign Lake Nordic Club\, Vernon \nCost: $437.80/coach.  Includes workshop materials\, trail-passes\, four complete days of training\, pre-workshop portfolio evaluation. All other expenses are the responsibility of the participants. \nRegister: Register for L2C \n  \nResources \nNCCP Coach Development Workshops: \nCross-Country Skiing\, NCCP Coaching Workshop & Professional Development Clinics Schedule: \nMinimum Mandatory Coaching Qualifications policy: \nMinimum Age for NCCP Workshops policy: \nCCBC Coach Recruitment Policy (ATHLETES):
URL:https://sovereignlake.com/event/l2t-snow-coaching-course/
LOCATION:Sovereign Lake Nordic Centre\, 250 Sovereign Lake Rd.\, Vernon\, BC
CATEGORIES:Courses,Programs
ATTACH;FMTTYPE=image/jpeg:https://sovereignlake.com/wp-content/uploads/2016/09/CO1Q0762-Bearbeitet.jpg
END:VEVENT
BEGIN:VEVENT
DTSTART;VALUE=DATE:20221016
DTEND;VALUE=DATE:20221017
DTSTAMP:20260421T033736
CREATED:20221005T171625Z
LAST-MODIFIED:20221005T173112Z
UID:9843-1665878400-1665964799@sovereignlake.com
SUMMARY:NCCP Aboriginal Coaching Module
DESCRIPTION:  \nThe Aboriginal Coaching Module (ACM) is a professional development training tool for Indigenous and non-Indigenous coaches who coach Indigenous athletes\, as they become certified through NCCP. This will be an essential course for coaches wishing to help with our Spirit North Program. The material in the ACM has been developed to meet the following objectives: \n\nUnderstanding the role of sport in Indigenous communities.\nUnderstanding and positively influencing the community in which you coach.\nCoaching the whole person; coaching beyond the physical to include the mental (intellectual and emotional)\, spiritual and cultural.\nResponding to racism in sport.\nEstablishing a code of behaviour for your team that respects differences and addresses racism.\nHelping those you coach\, choose to make healthy lifestyle choices.\n\nDownload the poster HERE. \nACM Program Overview  \n \n  \n  \n  \n  \n  \n 
URL:https://sovereignlake.com/event/nccp-aboriginal-coaching-module/
LOCATION:SLNC Tech Building
CATEGORIES:Courses,Programs
ATTACH;FMTTYPE=image/png:https://sovereignlake.com/wp-content/uploads/2022/10/Screen-Shot-2022-10-05-at-10.18.12-AM.png
ORGANIZER;CN="Deirdra Frank":MAILTO:programs@sovereignlake.com
END:VEVENT
BEGIN:VEVENT
DTSTART;TZID=America/Vancouver:20211024T020000
DTEND;TZID=America/Vancouver:20211024T080000
DTSTAMP:20260421T033736
CREATED:20211014T184918Z
LAST-MODIFIED:20211021T050055Z
UID:8276-1635040800-1635062400@sovereignlake.com
SUMMARY:Try Biathlon Demo Day
DESCRIPTION:Have you ever wanted to give this Olympic sport a try? Well now is your chance! Come on your own or in a group and experience the thrill of biathlon shooting! \nDate: Sunday\, October 24th\, 2021 \nTimes: 9am\, 10am\, 11am\, 1pm\, 2pm\, 3pm (45 min sessions) \nLocation: Sovereign Lake Nordic Club Range (view map)\n(22km east of the City of Vernon\, Up SilverStar Road. Just 2km west of SilverStar Mountain Resort) \nEligibility: ages 10 to 90+. Minors must have adult accompaniment \nCost: $15.50 (includes insurance\, rifle\, ammo\, and range fees) \nDress: Please dress warmly for changing mountain conditions \nView SLNC’s COVID-19 Protocol & Vaccine Card Updates \nNeed more info? Contact Lynn: biathlon@sovereignlake.com \nRegister for Try Biathlon
URL:https://sovereignlake.com/event/try-biathlon/
CATEGORIES:Courses,General,Programs
ATTACH;FMTTYPE=image/jpeg:https://sovereignlake.com/wp-content/uploads/2021/10/IMG_3312-1.jpeg
END:VEVENT
BEGIN:VEVENT
DTSTART;TZID=America/Vancouver:20210929T000100
DTEND;TZID=America/Vancouver:20210929T000100
DTSTAMP:20260421T033736
CREATED:20161015T060619Z
LAST-MODIFIED:20211013T230332Z
UID:1206-1632873660-1632873660@sovereignlake.com
SUMMARY:Upcoming NCCP Courses and Workshops
DESCRIPTION:Upcoming NCCP Courses and Workshops\nWe are currently working on hosting the workshops listed below. We’ll keep you posted on registration in the coming weeks. Fees will be covered by the club if you’re committed to coaching this season. \nOct 16: Learn to Train (L2T(D))Dryland  CANCELLED\nThe NCCP L2T (Dryland) Workshop is the fourth step in the NCCP progression. Coaches are taught about developmental age\, physical literacy\, team building\, athletic components (aerobic fitness\, speed\, etc.)\, nutrition\, how to design their own sports program\, adventure-based activities (year-round)\, roller-skiing\, and planning a practice. \nNov 18-21: Learn to Compete (L2C(OS)) On-Snow Workshop\nThe Competition Coaching Development (CCD) context is for coaches working with athletes in the Learning to Compete (L2C) stage of development (about 16-20 years for males and 15-19 years for females). \nNov 20-21: FUNdamentals (FUN) | Community Coaching (CC)  CANCELLED\nThe “CC” Workshop is the third step in the NCCP coach education program. It provides essential training for coaches delivering an effective skill development program to children six to nine years of age (the “FUNdamentals” stage of athlete development. This program is designed to train coaches to teach children technical skills\, select games that reinforce the technical skills being taught\, design and lead on-snow sessions\, select and prepare equipment for young children and make learning FUN. Successful completion of the ICC online module\, enthusiasm\, and a minimum age of 14 years are the only prerequisites. \nNov 26-28: Learn to Train (L2T(OS)) On-Snow Workshop\nThe NCCP L2T (On-Snow) Workshop is the second half of the CCI program and the fifth step in the NCCP progression. This workshop is designed to train coaches on team management\, supporting athletes at a competition\, teaching and learning\, equipment selection\, ski preparation\, and how to teach ski techniques effectively. \nSee the Nordiq Canada website for more information on Coaching Development Progression \nRESOURCES \nNCCP Coach Development Workshops: \nCross-Country Skiing\, NCCP Coaching Workshop & Professional Development Clinics Schedule: \nMinimum Mandatory Coaching Qualifications policy: \nMinimum Age for NCCP Workshops policy: \nCCBC Coach Recruitment Policy (ATHLETES):
URL:https://sovereignlake.com/event/upcoming-nccp-courses-and-workshops/
LOCATION:Sovereign Lake Nordic Centre\, 250 Sovereign Lake Rd.\, Vernon\, BC
CATEGORIES:Courses,Programs
ATTACH;FMTTYPE=image/jpeg:https://sovereignlake.com/wp-content/uploads/2016/09/CO1Q0762-Bearbeitet.jpg
END:VEVENT
BEGIN:VEVENT
DTSTART;VALUE=DATE:20210601
DTEND;VALUE=DATE:20210602
DTSTAMP:20260421T033736
CREATED:20210318T180521Z
LAST-MODIFIED:20210323T163018Z
UID:7752-1622505600-1622591999@sovereignlake.com
SUMMARY:Season Pass and Programs Sales Launch June 1st for the 2021-22 Season
DESCRIPTION:Get a leg up on the season with special early bird pricing for your 2021-22 SLNC Season Passes. \nClick on the SEASON PASSES page to access the new registration link. Please remember to reload your existing RFID Cards (DO NOT CREATE A NEW ACCOUNT). \nIf you are enrolled in any programs you need to have a valid 2021-22 season pass prior to commencing off-season training for liability and insurance purposes. Click on the PROGRAMS REGISTRATION link to register today.
URL:https://sovereignlake.com/event/season-pass-and-programs-sales-launch-for-2021-22-season/
CATEGORIES:General,Programs
ATTACH;FMTTYPE=image/jpeg:https://sovereignlake.com/wp-content/uploads/2020/12/holiday-ski.jpg
END:VEVENT
BEGIN:VEVENT
DTSTART;TZID=America/Vancouver:20190914T090000
DTEND;TZID=America/Vancouver:20190914T110000
DTSTAMP:20260421T033736
CREATED:20190914T192024Z
LAST-MODIFIED:20190910T161727Z
UID:5084-1568451600-1568458800@sovereignlake.com
SUMMARY:Biathlon Demo Day
DESCRIPTION:Have you ever wanted to give the sport of Biathlon a try? Well now is your chance! Our coaching team and athletes are opening up the range to anyone in the club with an interest in trying out this fun and dynamic sport.
URL:https://sovereignlake.com/event/biathlon-demo-day/
LOCATION:Sovereign Lake Nordic Centre\, 250 Sovereign Lake Rd.\, Vernon\, BC
CATEGORIES:Programs
ATTACH;FMTTYPE=image/jpeg:https://sovereignlake.com/wp-content/uploads/2017/08/P1030958_Biathlon2015Nov.jpg
END:VEVENT
BEGIN:VEVENT
DTSTART;TZID=America/Vancouver:20181103T130000
DTEND;TZID=America/Vancouver:20181103T150000
DTSTAMP:20260421T033736
CREATED:20170913T193915Z
LAST-MODIFIED:20181012T031013Z
UID:2527-1541250000-1541257200@sovereignlake.com
SUMMARY:Intro to Community Coaching (ICC) Courses
DESCRIPTION:Introduction to Community Coaching  \nIt is with great pleasure that we are able to launch CCC’s Intro to Community Coach e-learning module. \nHere is an overview of what exactly is available\, for what purpose and what each option entails: \n\nCoaches need to sign in into their Locker account https://thelocker.coach.ca/account/login?ReturnUrl=%2f  (which they first need to create if they do not have one yet) and click on the e-learning tab on their Locker homepage. By default the multisport e-learning options will load.\nCoaches need to open the roll down menu at the top and select “cross country skiing”. Two options will then be listed:\nThe ICC revision e-learning module is intended exclusively for coaches who are already credited with Intro to Community Coach training (online module or workshop) and wish to do a revision or fill some specific gaps in their previous ICC training. For this reason\, coaches can do the ICC revision module for free and navigate freely within the module’s table of content. If coaches proceed to the very last slide of this module and click on the button to complete the module\, this ICC revision module will get credited to their transcript but coaches will not earn any PD points towards maintenance of certification. Please note that coaches who did the Intro to Community Coach workshop previously but have not done the Community Coach workshop yet should definitely do this ICC revision and focus on step 2 (LTAD for cross country skiing)\, step 3 (Values and Ethics in Coaching) and step 8 (Introducing Competition to Children) as these modules were originally part of the Community Coach workshop but not anymore. Coaches will still get credited with Making Ethical Decisions by attending the Community Coach workshop for this year (although not part of the workshop anymore) as a transitory measure. This will allow them to proceed with doing the MED online evaluation for free.\n“Introduction to Community Coaching” in the menu is the regular e-learning module that all new coaches must now do. Overview:\n\na.  All coaches first need to complete the Coach Initiation in Sport module (CAC multisport module) before they are allowed to do CCC’s Introduction to Community Coaching module. Coaches can select the Coach Initiation in Sport e-learning module under the multisport menu. They simply won’t be able to proceed any further without having this multisport credited first. \nb.  The registration fee for the Introduction to Community Coaching module is $52\, payable by credit card.  Sovereign Lake Nordic Club will reimburse these costs back to the coach when a receipt is provided. \nc.  Coaches can expect to take 4 to 5 hours to complete the module if they are thorough but once started they can exit the course at any point and when they return subsequently they will be able to continue exactly from where they last exited the module. NB: This information is provided at the start of the module. \nd.  The left side menu in the module (table of content) that appears permanently on every slide has restricted navigation\, ie coaches cannot skip any step or any slide. They must start with the Intro on slide 1 and proceed from there. Once steps and sub-sections have been visited and completed though\, coaches can navigate back and forth within the completed steps to date. NB: This information is provided at the start of the module. \ne.  It is very important that coaches proceed to the very last slide of the module and click on the completion button to get this training credited to their transcript (updated automatically). If coaches are certified in another sport or for another cross country ski NCCP context\, they will also earn PD points for having completed this module. \nAdditional ICC Course information=For all coaches that complete this on-line module\, Sovereign Lake Nordic Club will host a ICC Q & A and practical applications session at Ratio Coffee on November 3\, 2018 from 13:00-15:00. \n 
URL:https://sovereignlake.com/event/intro-community-coaching-courses/
LOCATION:Ratio Coffee
CATEGORIES:Courses,Programs
ATTACH;FMTTYPE=image/jpeg:https://sovereignlake.com/wp-content/uploads/2017/07/IMG_0205.jpg
ORGANIZER;CN="Jenn Hyde":MAILTO:race@sovereignlake.com
END:VEVENT
END:VCALENDAR